BEGIN:VCALENDAR
VERSION:2.0
PRODID:-//GRAINES DES TOILES - ECPv6.15.18//NONSGML v1.0//EN
CALSCALE:GREGORIAN
METHOD:PUBLISH
X-ORIGINAL-URL:https://grainesdestoiles.com
X-WR-CALDESC:Évènements pour GRAINES DES TOILES
REFRESH-INTERVAL;VALUE=DURATION:PT1H
X-Robots-Tag:noindex
X-PUBLISHED-TTL:PT1H
BEGIN:VTIMEZONE
TZID:Europe/Paris
BEGIN:DAYLIGHT
TZOFFSETFROM:+0100
TZOFFSETTO:+0200
TZNAME:CEST
DTSTART:20240331T010000
END:DAYLIGHT
BEGIN:STANDARD
TZOFFSETFROM:+0200
TZOFFSETTO:+0100
TZNAME:CET
DTSTART:20241027T010000
END:STANDARD
BEGIN:DAYLIGHT
TZOFFSETFROM:+0100
TZOFFSETTO:+0200
TZNAME:CEST
DTSTART:20250330T010000
END:DAYLIGHT
BEGIN:STANDARD
TZOFFSETFROM:+0200
TZOFFSETTO:+0100
TZNAME:CET
DTSTART:20251026T010000
END:STANDARD
BEGIN:DAYLIGHT
TZOFFSETFROM:+0100
TZOFFSETTO:+0200
TZNAME:CEST
DTSTART:20260329T010000
END:DAYLIGHT
BEGIN:STANDARD
TZOFFSETFROM:+0200
TZOFFSETTO:+0100
TZNAME:CET
DTSTART:20261025T010000
END:STANDARD
END:VTIMEZONE
BEGIN:VEVENT
DTSTART;VALUE=DATE:20251031
DTEND;VALUE=DATE:20251101
DTSTAMP:20260424T173628
CREATED:20250922T081302Z
LAST-MODIFIED:20250922T081302Z
UID:1189-1761868800-1761955199@grainesdestoiles.com
SUMMARY:APRÈS-MIDI HALLOWEEN
DESCRIPTION:Grâce à Gérardmer Animation en partenariat avec la MCL\, participez à un après-midi fantastique chez les commerçants du centre-ville de Gérardmer. \nDe 15h à 18h\nChasse aux mots dans les commerces participants.\nDistribution de bonbons\, photo offerte chez La photo création\, Maquillage enfant gratuit chez Jouéclub.\n(Liste dans le livret jeu du festival et sur grainesdestoiles.com) \nDès 18h\nBoom déguisée à la MCL\nVenez déguster une soupe à la bave de limaces saupoudrée de pattes d’araignées poilues. \nÀ 20h\nFilm « petit vampire » (dès 6 ans)
URL:https://grainesdestoiles.com/evenenement/apres-midi-halloween/
LOCATION:MCL de Gérardmer\, 1 Boulevard de Saint Dié\, Gérardmer\, 88400\, France
CATEGORIES:Animations
END:VEVENT
BEGIN:VEVENT
DTSTART;TZID=Europe/Paris:20251030T100000
DTEND;TZID=Europe/Paris:20251030T101500
DTSTAMP:20260424T173628
CREATED:20250922T081540Z
LAST-MODIFIED:20250922T095348Z
UID:1197-1761818400-1761819300@grainesdestoiles.com
SUMMARY:CINÉ LECTURE "Jack et Nancy - les plus belles histoires de Quentin Blake"
DESCRIPTION:Avant le film « Jack et Nancy – les plus belles histoires de Quentin Blake »\, partez à la découverte des œuvres de Quentin Blake\, auteur et illustrateur britannique. \nLecture avant la séance A 10h (dès 5 ans). \n(film à 10h15)
URL:https://grainesdestoiles.com/evenenement/cine-lecture/
LOCATION:MCL de Gérardmer\, 1 Boulevard de Saint Dié\, Gérardmer\, 88400\, France
CATEGORIES:Animations
ATTACH;FMTTYPE=image/png:https://grainesdestoiles.com/wp-content/uploads/2025/09/Logo_Lire-et-faire-lire_logo_RVB-150dpi.png
END:VEVENT
BEGIN:VEVENT
DTSTART;TZID=Europe/Paris:20251029T140000
DTEND;TZID=Europe/Paris:20251029T163000
DTSTAMP:20260424T173628
CREATED:20250922T081050Z
LAST-MODIFIED:20251028T105852Z
UID:1187-1761746400-1761755400@grainesdestoiles.com
SUMMARY:COMPLET - ATELIER BRICO-JEU
DESCRIPTION:Avec les animateurs de la Ludothèque\, venez créer votre thaumatrope pour faire le lien entre science\, cinéma et jeu…\nChacun repartira avec sa construction ! \nEn famille à partir de 7 ans \nCOMPLET \nDe 14h à 16h30 à la MCL
URL:https://grainesdestoiles.com/evenenement/atelier-brico-jeu/
LOCATION:MCL de Gérardmer\, 1 Boulevard de Saint Dié\, Gérardmer\, 88400\, France
CATEGORIES:Animations
END:VEVENT
BEGIN:VEVENT
DTSTART;TZID=Europe/Paris:20251029T140000
DTEND;TZID=Europe/Paris:20251029T160000
DTSTAMP:20260424T173628
CREATED:20250922T080900Z
LAST-MODIFIED:20251026T135237Z
UID:1185-1761746400-1761753600@grainesdestoiles.com
SUMMARY:COMPLET - SORTIE DÉCOUVERTE DE LA FABRICATION DU PAPIER
DESCRIPTION:Avec le CFA Papetier de Gérardmer \nPartez à la découverte du CFA Papetier de Gérardmer\, et découvrez le fonctionnement d’une machine à papier et la fabrication de papier à la main\, construisez des boîtes en carton et observer le fonctionnement des équipements de transformation. Une immersion unique au cœur d’un savoir-faire technique. \n10 personnes/groupe – Départ devant la MCL 15min avant l’horaire indiqué\nCOMPLET
URL:https://grainesdestoiles.com/evenenement/sortie-decouverte-de-la-fabrication-du-papier-2/
LOCATION:MCL de Gérardmer\, 1 Boulevard de Saint Dié\, Gérardmer\, 88400\, France
CATEGORIES:Sortie
ATTACH;FMTTYPE=image/png:https://grainesdestoiles.com/wp-content/uploads/2025/09/CFA_papier.png
END:VEVENT
BEGIN:VEVENT
DTSTART;TZID=Europe/Paris:20251029T090000
DTEND;TZID=Europe/Paris:20251029T110000
DTSTAMP:20260424T173628
CREATED:20250922T080815Z
LAST-MODIFIED:20251026T135312Z
UID:1183-1761728400-1761735600@grainesdestoiles.com
SUMMARY:COMPLET - SORTIE DÉCOUVERTE DE LA FABRICATION DU PAPIER
DESCRIPTION:Avec le CFA Papetier de Gérardmer \nPartez à la découverte du CFA Papetier de Gérardmer\, et découvrez le fonctionnement d’une machine à papier et la fabrication de papier à la main\, construisez des boîtes en carton et observer le fonctionnement des équipements de transformation. Une immersion unique au cœur d’un savoir-faire technique. \n10 personnes/groupe – Départ devant la MCL 15min avant l’horaire indiqué\nCOMPLET
URL:https://grainesdestoiles.com/evenenement/sortie-decouverte-de-la-fabrication-du-papier/
LOCATION:MCL de Gérardmer\, 1 Boulevard de Saint Dié\, Gérardmer\, 88400\, France
CATEGORIES:Sortie
ATTACH;FMTTYPE=image/png:https://grainesdestoiles.com/wp-content/uploads/2025/09/CFA_papier.png
END:VEVENT
BEGIN:VEVENT
DTSTART;TZID=Europe/Paris:20251028T100000
DTEND;TZID=Europe/Paris:20251028T110000
DTSTAMP:20260424T173628
CREATED:20250922T080539Z
LAST-MODIFIED:20250922T100904Z
UID:1180-1761645600-1761649200@grainesdestoiles.com
SUMMARY:CINÉ CONCERT La princesse et le Rossignol
DESCRIPTION:La princesse et le Rossignol \nCyrille Aufaure vous propose une séance exceptionnelle durant laquelle les p’tits spectateurs découvriront le programme La Princesse et le Rossignol en version ciné-concert !\nAvec son piano\, le musicien vous offre une projection magique où la découverte\, les rires et l’émerveillement s’entremêlent afin d’offrir de beaux moments de cinéma ! Le film est accompagné par une musique originale composée et jouée par le pianiste. \nÀ partir de 3 ans – Durée 45 min – Tarifs du Festival
URL:https://grainesdestoiles.com/evenenement/cine-concert/
LOCATION:MCL de Gérardmer\, 1 Boulevard de Saint Dié\, Gérardmer\, 88400\, France
CATEGORIES:Spectacle/concert
ATTACH;FMTTYPE=image/jpeg:https://grainesdestoiles.com/wp-content/uploads/2025/09/Cineconcert-1.jpg
END:VEVENT
BEGIN:VEVENT
DTSTART;TZID=Europe/Paris:20251027T200000
DTEND;TZID=Europe/Paris:20251027T201500
DTSTAMP:20260424T173628
CREATED:20250922T080409Z
LAST-MODIFIED:20250922T111853Z
UID:1177-1761595200-1761596100@grainesdestoiles.com
SUMMARY:IA OU PAS IA ?
DESCRIPTION:Saurez-vous distinguer le vrai du faux ?\nUne image est-elle authentique\, ce son est-il chanté ou entièrement généré par l’IA ? Un quiz ludique et enrichissant vous attend avant la projection du film\nDalloway (dès 12 ans).
URL:https://grainesdestoiles.com/evenenement/ia-ou-pas-ia/
LOCATION:MCL de Gérardmer\, 1 Boulevard de Saint Dié\, Gérardmer\, 88400\, France
CATEGORIES:Animations
ATTACH;FMTTYPE=image/jpeg:https://grainesdestoiles.com/wp-content/uploads/2025/09/IA.jpg
END:VEVENT
BEGIN:VEVENT
DTSTART;TZID=Europe/Paris:20251027T140000
DTEND;TZID=Europe/Paris:20251027T163000
DTSTAMP:20260424T173628
CREATED:20250919T093128Z
LAST-MODIFIED:20250922T094735Z
UID:1139-1761573600-1761582600@grainesdestoiles.com
SUMMARY:CINÉ GOÛTER Avril et le monde truqué suivi du quizz des inventeurs
DESCRIPTION:Le ciné goûter est une occasion idéale de profiter d’un moment de gourmandise qui permet d’échanger avec les autres spectateurs après la séance. \nAprès le film « Avril et le monde truqué » (dès 8 ans) suivi du quizz des inventeurs ! \nÀ la suite de la séance de Avril et le monde truqué venez tester vos connaissances sur la science et les inventeurs célèbres grâce à un quizz préparé par les bénévoles du festival. \n4\,50 € par personne (ciné + goûter)
URL:https://grainesdestoiles.com/evenenement/cines-gouter-2/
LOCATION:MCL de Gérardmer\, 1 Boulevard de Saint Dié\, Gérardmer\, 88400\, France
ATTACH;FMTTYPE=image/webp:https://grainesdestoiles.com/wp-content/uploads/2025/08/CineGouter.webp
END:VEVENT
BEGIN:VEVENT
DTSTART;TZID=Europe/Paris:20251026T140000
DTEND;TZID=Europe/Paris:20251026T180000
DTSTAMP:20260424T173628
CREATED:20250919T084622Z
LAST-MODIFIED:20250922T082646Z
UID:1124-1761487200-1761501600@grainesdestoiles.com
SUMMARY:BALADE Avec le Club Vosgien
DESCRIPTION:Une sortie nature ouverte à toute la famille\, pour observer\, écouter\, toucher\, sentir et goûter les richesses de notre environnement.\nUn moment découverte ludique\, accessible à tous\, pour éveiller petits et grands aux merveilles de la nature vosgienne. \nGratuit – Bonnes chaussures recommandées\nDépart devant la MCL
URL:https://grainesdestoiles.com/evenenement/balade-avec-le-club-vosgien-2/
LOCATION:MCL de Gérardmer\, 1 Boulevard de Saint Dié\, Gérardmer\, 88400\, France
CATEGORIES:Sortie
ATTACH;FMTTYPE=image/jpeg:https://grainesdestoiles.com/wp-content/uploads/2025/09/Balade_ClubVosgien-scaled.jpg
END:VEVENT
BEGIN:VEVENT
DTSTART;TZID=Europe/Paris:20251026T110000
DTEND;TZID=Europe/Paris:20251026T140000
DTSTAMP:20260424T173628
CREATED:20250919T085129Z
LAST-MODIFIED:20251021T132853Z
UID:1127-1761476400-1761487200@grainesdestoiles.com
SUMMARY:LE BRUNCH DU FESTIVAL !
DESCRIPTION:Véritable moment convivial\, le brunch\, orchestré par les bénévoles du festival\, permet de savourer une variété de plats sucrés et salés pour se réveiller du bon pied le dimanche matin ! \nPlaces limitées – Adulte : 12€ – Enfants : 8€\nAchat du brunch obligatoire avant le jeudi 23 octobre via le site internet MCL ou directement à la caisse ciné de la MCL
URL:https://grainesdestoiles.com/evenenement/le-brunch-du-festival/
CATEGORIES:Animations
ATTACH;FMTTYPE=image/png:https://grainesdestoiles.com/wp-content/uploads/2025/09/Brunch.png
END:VEVENT
BEGIN:VEVENT
DTSTART;TZID=Europe/Paris:20251025T180000
DTEND;TZID=Europe/Paris:20251025T190000
DTSTAMP:20260424T173628
CREATED:20250919T090615Z
LAST-MODIFIED:20250922T095050Z
UID:1129-1761415200-1761418800@grainesdestoiles.com
SUMMARY:SPECTACLE LES MYSTÈRES DU FER
DESCRIPTION:Votre émission scientifique préférée\, « Kosmos Science Power » \, s’intéresse dans ce nouvel épisode à l’atome de fer. L’éminent Pr. Bouldanof et Brigitte Deterrain\, sa doctorante\, vous dévoileront tout sur cet élément si important à la vie sur Terre. Du noyau terrestre\, aux météorites\, en passant par notre sang\, l’alimentation et bien sûr la réduction du minerai de fer pour en faire de la fonte ou de l’acier\, vous saurez tout sur cet élément d’origine stellaire qui a tout pour plaire.. Foi de mammifère ! \nClowns\, sciences et humour – Cie Collaps’art\nDans le cadre de la Saison Culturelle \nTout public\, à partir de 7 ans\nDurée 50 min – Tarifs du festival \n 
URL:https://grainesdestoiles.com/evenenement/spectacle-les-mysteres-du-fer/
LOCATION:MCL de Gérardmer\, 1 Boulevard de Saint Dié\, Gérardmer\, 88400\, France
CATEGORIES:Spectacle/concert
ATTACH;FMTTYPE=image/jpeg:https://grainesdestoiles.com/wp-content/uploads/2025/09/mysteres-Fer.jpeg
END:VEVENT
BEGIN:VEVENT
DTSTART;TZID=Europe/Paris:20251024T194500
DTEND;TZID=Europe/Paris:20251024T223000
DTSTAMP:20260424T173628
CREATED:20250922T080148Z
LAST-MODIFIED:20251022T064057Z
UID:1175-1761335100-1761345000@grainesdestoiles.com
SUMMARY:COMPLET-SOIRÉE JEUX DE RÔLES
DESCRIPTION:Avec la MédiaLudothèque \nNovembre 2012. La planète est secouée par des catastrophes naturelles sans précédent\, inexplicables par la science moderne. Quelle est la cause de cette apocalypse ? Une soirée sur le jeu de rôle « 2012 : Extinction » pour déterminer le futur de la planète…\nAvec les animateurs de la Ludothèque Intercommunale venez découvrir et vous initier aux jeux de rôles. Le jeu de rôle permet à chaque joueur d’incarner un personnage et de lui faire vivre des aventures ! \nÀ partir de 12 ans – Durée : 2h – COMPLET\nA la MCL
URL:https://grainesdestoiles.com/evenenement/soiree-jeux-de-roles/
LOCATION:MCL de Gérardmer\, 1 Boulevard de Saint Dié\, Gérardmer\, 88400\, France
CATEGORIES:Animations
END:VEVENT
BEGIN:VEVENT
DTSTART;TZID=Europe/Paris:20251023T140000
DTEND;TZID=Europe/Paris:20251023T143000
DTSTAMP:20260424T173628
CREATED:20250814T115702Z
LAST-MODIFIED:20251003T142828Z
UID:922-1761228000-1761229800@grainesdestoiles.com
SUMMARY:Zoé conte : Suzanne et le cueilleur de rosée
DESCRIPTION:Suzanne aime rêver\, dessiner et construire. Un jour après avoir croisé le chemin du cueilleur de rosée\, elle décide de se fabriquer un nid-cocon. Pas simple comme projet mais terriblement excitant ! \nLa conteuse Zoé vous invite à suivre la jeune fille dans cette aventure. \nEt pour rester dans cette thématique vous pourrez assister ensuite à 14h45 à la séance de Léo\, la fabuleuse histoire de Léonard de Vinci (dès 8 ans) \nSpectacle familial tout public. Durée 30 min – Entrée libre\nLe jeudi 23 octobre à 14h au Foyer Bar
URL:https://grainesdestoiles.com/evenenement/zoe-conte/
LOCATION:MCL de Gérardmer\, 1 Boulevard de Saint Dié\, Gérardmer\, 88400\, France
CATEGORIES:Spectacle/concert
ATTACH;FMTTYPE=image/jpeg:https://grainesdestoiles.com/wp-content/uploads/2025/08/Suzanne-et-le-cueilleur-de-rosee-scaled.jpeg
END:VEVENT
BEGIN:VEVENT
DTSTART;TZID=Europe/Paris:20251023T093000
DTEND;TZID=Europe/Paris:20251023T110000
DTSTAMP:20260424T173628
CREATED:20250922T075936Z
LAST-MODIFIED:20250922T100426Z
UID:1173-1761211800-1761217200@grainesdestoiles.com
SUMMARY:MATIN RÉCRÉATIF "La Princesse et le Rossignol"
DESCRIPTION:Avec le film « La Princesse et le Rossignol » \nUne animation encadrée par des animateurs avec la participation des parents. Jeux\, lecture avec l’association Lire et Faire Lire et l’équipe de la Médialudothèque ou création d’un petit souvenir en rapport avec le film diffusé avec les bénévoles du festival\, deux ateliers de 20 minutes à l’issue de la projection. \nPour les enfants de 3 à 5 ans
URL:https://grainesdestoiles.com/evenenement/matin-recreatif/
LOCATION:MCL de Gérardmer\, 1 Boulevard de Saint Dié\, Gérardmer\, 88400\, France
CATEGORIES:Animations
ATTACH;FMTTYPE=image/jpeg:https://grainesdestoiles.com/wp-content/uploads/2025/09/IMG_20241025_112517-scaled.jpg
END:VEVENT
BEGIN:VEVENT
DTSTART;TZID=Europe/Paris:20251022T200000
DTEND;TZID=Europe/Paris:20251022T220000
DTSTAMP:20260424T173628
CREATED:20250922T075139Z
LAST-MODIFIED:20250922T112546Z
UID:1171-1761163200-1761170400@grainesdestoiles.com
SUMMARY:SOIRÉE JEUX
DESCRIPTION:Avec la MédiaLudothèque\nLa Ludothèque Intercommunale a le plaisir de vous inviter à une soirée jeux délocalisée à la MCL placée sous le signe de la science.\nEmbarquez pour une aventure ludique avec les jeux scientifiques mais pas que..! Un bon moment d’amusement à partager en famille ou entre amis… \nÀ partir de 7 ans – Entrée libre
URL:https://grainesdestoiles.com/evenenement/soiree-jeux/
LOCATION:MCL de Gérardmer\, 1 Boulevard de Saint Dié\, Gérardmer\, 88400\, France
CATEGORIES:Animations
ATTACH;FMTTYPE=image/jpeg:https://grainesdestoiles.com/wp-content/uploads/2025/09/Jeux-scaled.jpg
END:VEVENT
BEGIN:VEVENT
DTSTART;TZID=Europe/Paris:20251022T150000
DTEND;TZID=Europe/Paris:20251022T160000
DTSTAMP:20260424T173628
CREATED:20250919T090908Z
LAST-MODIFIED:20250919T090908Z
UID:1135-1761145200-1761148800@grainesdestoiles.com
SUMMARY:CONCERT SUPER GAMMA & SUPER BÊTA
DESCRIPTION:Opération Ratatouille (Concert Intergalactique) \nSuper Gamma et Super Bêta\, sont deux braves types en collant\, heu… j’veux dire\, deux super zéros… Héros\, HEROS se promenant à travers la galaxie afin de prodiguer la belle parole.\nDepuis peu\, c’est sur la terre qu’ils ont élu domicile. Ainsi\, ils vont à la vitesse éclair\, de cité en cité\, proposer à toutes créatures vivantes et possédant au minimum une oreille\, chansons et autres\nloufoqueries intergalactiques. Leur mission\, parler de ces choses graves qui pèsent sur votre planète mais tout en finesse : la malbouffe\, la pollution\, les maladies\, la mondialisation..; voire même pour les oreilles pas trop sensibles\, la fin du monde. D’ailleurs\, leur plus grande citation : « Avec nos mots à nous\, on s’attaque aux maux à vous » Tatatssoin ! \nÀ partir de 4 ans – Durée 50 min\n4€ pour tous\, Pass GDT utilisable
URL:https://grainesdestoiles.com/evenenement/concert-super-gamma-super-beta/
LOCATION:MCL de Gérardmer\, 1 Boulevard de Saint Dié\, Gérardmer\, 88400\, France
CATEGORIES:Spectacle/concert
ATTACH;FMTTYPE=image/jpeg:https://grainesdestoiles.com/wp-content/uploads/2025/09/Gamma-et-Beta.jpg
END:VEVENT
BEGIN:VEVENT
DTSTART;TZID=Europe/Paris:20251021T140000
DTEND;TZID=Europe/Paris:20251021T160000
DTSTAMP:20260424T173628
CREATED:20250922T074922Z
LAST-MODIFIED:20250922T111032Z
UID:1167-1761055200-1761062400@grainesdestoiles.com
SUMMARY:PERSONNALISE TON MUG !
DESCRIPTION:Venez fabriquer votre Mug aux couleurs du Festival !\nAccompagné de nos bénévoles\, créez et imaginez votre tasse personnalisée avec votre nom et / ou dessin avant de la ramener à la maison… \n6€ le Mug
URL:https://grainesdestoiles.com/evenenement/personnalise-ton-mug/
LOCATION:MCL de Gérardmer\, 1 Boulevard de Saint Dié\, Gérardmer\, 88400\, France
CATEGORIES:Animations
ATTACH;FMTTYPE=image/jpeg:https://grainesdestoiles.com/wp-content/uploads/2025/09/IMG_6803-scaled.jpg
END:VEVENT
BEGIN:VEVENT
DTSTART;VALUE=DATE:20251021
DTEND;VALUE=DATE:20251022
DTSTAMP:20260424T173628
CREATED:20250922T075037Z
LAST-MODIFIED:20251018T130010Z
UID:1169-1761004800-1761091199@grainesdestoiles.com
SUMMARY:COMPLET - SORTIE FAMILLE "Le Vaisseau" à Strasbourg
DESCRIPTION:Nous vous proposons une sortie spéciale au Vaisseau de Strasbourg dans le cadre du festival « Graines des Toiles » !\nCette année\, le festival explore le thème fascinant de la science. C’est l’occasion parfaite pour petits et grands de découvrir des expériences ludiques et de s’émerveiller devant les mystères de notre\nmonde. Venez passer un moment inoubliable en famille\, où l’amusement se mêle à l’apprentissage.\nC’est une belle opportunité de créer des souvenirs tout en éveillant la curiosité de vos enfants. \nCETTE SORTIE EST COMPLETE 
URL:https://grainesdestoiles.com/evenenement/sortie-famille/
LOCATION:MCL de Gérardmer\, 1 Boulevard de Saint Dié\, Gérardmer\, 88400\, France
CATEGORIES:Sortie
ATTACH;FMTTYPE=image/jpeg:https://grainesdestoiles.com/wp-content/uploads/2025/09/vaisseau.jpg
END:VEVENT
BEGIN:VEVENT
DTSTART;TZID=Europe/Paris:20251020T150000
DTEND;TZID=Europe/Paris:20251020T170000
DTSTAMP:20260424T173628
CREATED:20250919T092934Z
LAST-MODIFIED:20250922T110713Z
UID:1137-1760972400-1760979600@grainesdestoiles.com
SUMMARY:CINÉ GOÛTER : La Vie de château : Mon enfance à Versailles
DESCRIPTION:Le ciné goûter est une occasion idéale de profiter d’un moment de gourmandise qui permet d’échanger avec les autres spectateurs après la séance. \nAprès  le film « La Vie de château : Mon enfance à Versailles » (dès 6 ans) \n4\,50 € par personne (ciné + goûter)
URL:https://grainesdestoiles.com/evenenement/cines-gouter/
LOCATION:MCL de Gérardmer\, 1 Boulevard de Saint Dié\, Gérardmer\, 88400\, France
CATEGORIES:Animations
ATTACH;FMTTYPE=image/webp:https://grainesdestoiles.com/wp-content/uploads/2025/08/CineGouter.webp
END:VEVENT
BEGIN:VEVENT
DTSTART;TZID=Europe/Paris:20251019T160000
DTEND;TZID=Europe/Paris:20251019T174500
DTSTAMP:20260424T173628
CREATED:20250922T074822Z
LAST-MODIFIED:20251003T142733Z
UID:1164-1760889600-1760895900@grainesdestoiles.com
SUMMARY:LA GRANDE RÉCOLTE DES LÉGUMES !
DESCRIPTION:À l’issue de la séance de Shaun le mouton : la ferme en folie\, partez à la chasse aux légumes dans le cinéma ! \n« Cette nuit\, tous les légumes du potager ont disparu ! Il faut aider Shaun et le troupeau de moutons à les\nretrouver et les rapporter avant que le fermier et Bitzer ne se réveillent… » \nEn partenariat avec la ferme des Prés en Bulles et le GAEC Les Champs des Coteaux (Sapois)
URL:https://grainesdestoiles.com/evenenement/la-grande-recolte-des-legumes/
LOCATION:MCL de Gérardmer\, 1 Boulevard de Saint Dié\, Gérardmer\, 88400\, France
CATEGORIES:Animations
ATTACH;FMTTYPE=image/png:https://grainesdestoiles.com/wp-content/uploads/2025/09/Shaun_legumes.png
END:VEVENT
BEGIN:VEVENT
DTSTART;TZID=Europe/Paris:20251019T140000
DTEND;TZID=Europe/Paris:20251019T180000
DTSTAMP:20260424T173628
CREATED:20250919T084454Z
LAST-MODIFIED:20250922T094619Z
UID:1122-1760882400-1760896800@grainesdestoiles.com
SUMMARY:BALADE avec le Club Vosgien
DESCRIPTION:Une sortie nature ouverte à toute la famille\, pour observer\, écouter\, toucher\, sentir et goûter les richesses de notre environnement.\nUn moment découverte ludique\, accessible à tous\, pour éveiller petits et grands aux merveilles de la nature vosgienne. \nGratuit – Bonnes chaussures recommandées\nDépart devant la MCL
URL:https://grainesdestoiles.com/evenenement/balade-avec-le-club-vosgien/
LOCATION:MCL de Gérardmer\, 1 Boulevard de Saint Dié\, Gérardmer\, 88400\, France
CATEGORIES:Sortie
ATTACH;FMTTYPE=image/jpeg:https://grainesdestoiles.com/wp-content/uploads/2025/09/Cvosgien-2.jpeg
END:VEVENT
BEGIN:VEVENT
DTSTART;TZID=Europe/Paris:20251019T091500
DTEND;TZID=Europe/Paris:20251019T103500
DTSTAMP:20260424T173628
CREATED:20250821T100505Z
LAST-MODIFIED:20250821T124554Z
UID:926-1760865300-1760870100@grainesdestoiles.com
SUMMARY:Ciné p'tit déj' - Timioche (dès 3 ans)
DESCRIPTION:Venez déguster un petit déjeuner convivial et familial avant la séance de cinéma le dimanche matin !\nRendez-vous à 9h15 pour le p’tit déj’ et à 9h45 pour le film.\nDimanche 19 octobre avant le programme de courts métrages « Timioche (dès 3 ans)»\nTarif unique : 4\,50€ pour tous\, p’tit déj inclus
URL:https://grainesdestoiles.com/evenenement/cine-ptit-dej-timioche-des-3-ans/
CATEGORIES:Animations
ATTACH;FMTTYPE=image/png:https://grainesdestoiles.com/wp-content/uploads/2025/08/Capture-decran-2025-08-21-121321.png
END:VEVENT
BEGIN:VEVENT
DTSTART;TZID=Europe/Paris:20251017T170000
DTEND;TZID=Europe/Paris:20251017T190000
DTSTAMP:20260424T173628
CREATED:20250922T074032Z
LAST-MODIFIED:20250922T074659Z
UID:1160-1760720400-1760727600@grainesdestoiles.com
SUMMARY:LUDOLIRE
DESCRIPTION:Le Ludolire de la Médialudothèque est de retour dans le cadre du festival Graines des Toiles. Au programme\, lectures\, jeux et activité manuelle sur le thème des sciences\, alors n’hésite pas à mettre ta plus belle tenue de scientifique et à t’inscrire ! \nÀ partir de 6 ans – 18 enfants maximum\nSur inscription via le portail MEDIALUDO ou par téléphone au 03 29 63 00 70\nÀ la Médialudothèque
URL:https://grainesdestoiles.com/evenenement/ludolire/
LOCATION:Medialudothéque\, 16 Rue Charles de Gaulle\, GERARDMER\, 88400\, France
CATEGORIES:Animations
END:VEVENT
BEGIN:VEVENT
DTSTART;TZID=Europe/Paris:20251017T090000
DTEND;TZID=Europe/Paris:20251017T170000
DTSTAMP:20260424T173628
CREATED:20250922T073428Z
LAST-MODIFIED:20251002T073238Z
UID:1157-1760691600-1760720400@grainesdestoiles.com
SUMMARY:FORMATION IMAGE’EST - Découverte de l'audiodescription
DESCRIPTION:Télécharger la plaquette de la formation \nPour cette formation\, nous vous proposons à travers la présentation de ressources\, une rencontre et un atelier pratique une sensibilsation à la question de l’accessibilité.\nDans un premier temps nous vous présenterons briévement le Kit Handicap conçu par le Blackmaria (Pôle régional d’éducation aux images de Champagne-Ardennes) et déployé sur le territoire national par l’Archipel des Lucioles.\nPuis\, la majorité de la journée sera concentrée autour d’une rencontre avec Benjamin Kling\, audiodescripteur de métier et de suivre avec lui un atelier d’audiodescrption. L’objectif de la journée est surtout de s’interroger sur l’accessibilité à la culture des personnes en situation de handicap\, plus particulièrement en s’ouvrant à l’univers de l’audiodescription. \nINTERVENANT\nBenjamin Kling est un audiodescripteur basé à Strasbourg. Il traduit le cinéma pour les spectateurs malvoyants et non-voyants. Auteur pour audiodescription de film\, documentaires et séries pour le cinéma et la télévision\, il a plus de trois cents films à son actif. Il est également Chargé de programmation cinéma pour le festival Ententez Voir. Il enseigne également l’audiodesciption à de futurs professionnels à l’université de Starsbourg dans le cadre du Master M2 Traduction Audiovisuelle et Accessibilité. \nPARTICIPANT.E.S\nCette formation s’adresse aux professionnel.le.s de l’action culturelle et éducative (enseignant.e.s\, animateur.trice.s\, médiateur.trice.s\, programmateur.trice.s\, bibliothécaires\, artistes- intervenant.e.s\, etc.) ayant ou non une expérience de l’éducation\naux images et désireux.euses de se former.\nCette formation gratuite est proposée par IMAGE’EST\, Pôle régional d’éducation aux images en Lorraine (PREAI)\, en partenariat avec\nle Festival Graines des Toiles et la MCL de Gerardmer. \nFormation gratuite proposée par IMAGE’EST\, Pôle régional d’éducation aux images en Lorraine (PREAI)\, en partenariat avec le Festival Graines des Toiles et la MCL de Gérardmer.\nParticipation gratuite (dans la limite des places disponibles) sur inscription avant le 14 octobre auprès de lena.quelvennec@image-est.fr \n \n9H00\nACCUEIL\n9H30\nINTRODUCTION ET PRÉSENTATION DU KIT HANDICAP\n10H30\nPRÉSENTATION DE BENJAMIN KLING\nLe métier d’audiodescripteur\nLes bases de l’audiodescription\nPrésentation de l’atelier\n12H00\nPAUSE DÉJEUNER\n13H00\nMISE EN PRATIQUE\nCONSTRUCTION D’UN ATELIER\nAUTOUR DE L’AUDIODESCRIPTION\nÉCHANGES ET QUESTIONS\n16H45\nBILAN
URL:https://grainesdestoiles.com/evenenement/formation-imageest/
LOCATION:MCL de Gérardmer\, 1 Boulevard de Saint Dié\, Gérardmer\, 88400\, France
CATEGORIES:Formation
ATTACH;FMTTYPE=image/jpeg:https://grainesdestoiles.com/wp-content/uploads/2025/09/benjamin-kling.jpg
END:VEVENT
BEGIN:VEVENT
DTSTART;VALUE=DATE:20251013
DTEND;VALUE=DATE:20251031
DTSTAMP:20260424T173628
CREATED:20250926T120635Z
LAST-MODIFIED:20251021T132848Z
UID:1335-1760313600-1761868799@grainesdestoiles.com
SUMMARY:Expositions sur les films
DESCRIPTION:Comment naît un film d’animation ? Des p’tites expositions qui entraînent les enfants dans les coulisses de la création : du premier croquis au personnage animé\, en passant par les décors\, les voix et les effets spéciaux\, chacun découvre pas à pas les secrets des studios et la magie qui transforme une simple idée en film sur grand écran ! \nN’hésitez pas à descendre au Foyer Bar pour découvrir différentes expositions sur les films ainsi qu’un coin\nlecture composé d’une sélection de livres concoctée par la Médiathèque Intercommunale.
URL:https://grainesdestoiles.com/evenenement/expositions-sur-les-films/
CATEGORIES:Exposition
ATTACH;FMTTYPE=image/png:https://grainesdestoiles.com/wp-content/uploads/2025/09/Packshot_Expo_A3_LeSecretDesMesanges.png
END:VEVENT
BEGIN:VEVENT
DTSTART;VALUE=DATE:20251013
DTEND;VALUE=DATE:20251031
DTSTAMP:20260424T173628
CREATED:20250926T094455Z
LAST-MODIFIED:20250926T094455Z
UID:1328-1760313600-1761868799@grainesdestoiles.com
SUMMARY:Expo Illusions d'optiques
DESCRIPTION:Viens plonger dans le monde étonnant des illusions d’optique !\nCette exposition invite les enfants et les parents à découvrir comment nos yeux et notre cerveau peuvent parfois être trompés. À travers des jeux visuels et des images surprenantes\, chacun pourra explorer les secrets de la perception et s’émerveiller en voyant que tout n’est pas toujours ce qu’il paraît ! \nEntrée libre aux horaire d’ouverture de la MCL
URL:https://grainesdestoiles.com/evenenement/expo-illusions-doptiques/
CATEGORIES:Exposition
ATTACH;FMTTYPE=image/png:https://grainesdestoiles.com/wp-content/uploads/2025/09/Capture-decran-2025-09-26-114413.png
END:VEVENT
BEGIN:VEVENT
DTSTART;VALUE=DATE:20251013
DTEND;VALUE=DATE:20251031
DTSTAMP:20260424T173628
CREATED:20250926T120404Z
LAST-MODIFIED:20251021T133233Z
UID:1332-1760313600-1761868799@grainesdestoiles.com
SUMMARY:Expo Musée Numérique "La Micro Folie"
DESCRIPTION:Ouvert de 14h à 18h en semaine\n\nLe Labo des Jeunes Scientifiques vous ouvre ses portes !\nDans le cadre du festival Graines des Toiles\, la MicroFolie se transforme en un laboratoire d’expériences.\nNotre exposition interactive est une sélection unique d’œuvres autour des sciences\, extraites du Musée Numérique de la Micro-Folie. Venez interagir avec des créations artistiques\, des documents scientifiques et des vidéos issus des plus grandes collections nationales et internationales\, et comprenez les mystères de notre monde en vous amusant ! \nPendant toute la durée du festival\nOuvert de 14h à 18h en semaine\nEntrée libre Galerie de la MCL
URL:https://grainesdestoiles.com/evenenement/expo-musee-numerique-la-micro-folie/
CATEGORIES:Exposition
ATTACH;FMTTYPE=image/jpeg:https://grainesdestoiles.com/wp-content/uploads/2025/09/microfolie.jpg
END:VEVENT
END:VCALENDAR