BEGIN:VCALENDAR
VERSION:2.0
PRODID:-//GRAINES DES TOILES - ECPv6.15.18//NONSGML v1.0//EN
CALSCALE:GREGORIAN
METHOD:PUBLISH
X-WR-CALNAME:GRAINES DES TOILES
X-ORIGINAL-URL:https://grainesdestoiles.com
X-WR-CALDESC:Évènements pour GRAINES DES TOILES
REFRESH-INTERVAL;VALUE=DURATION:PT1H
X-Robots-Tag:noindex
X-PUBLISHED-TTL:PT1H
BEGIN:VTIMEZONE
TZID:Europe/Paris
BEGIN:DAYLIGHT
TZOFFSETFROM:+0100
TZOFFSETTO:+0200
TZNAME:CEST
DTSTART:20240331T010000
END:DAYLIGHT
BEGIN:STANDARD
TZOFFSETFROM:+0200
TZOFFSETTO:+0100
TZNAME:CET
DTSTART:20241027T010000
END:STANDARD
BEGIN:DAYLIGHT
TZOFFSETFROM:+0100
TZOFFSETTO:+0200
TZNAME:CEST
DTSTART:20250330T010000
END:DAYLIGHT
BEGIN:STANDARD
TZOFFSETFROM:+0200
TZOFFSETTO:+0100
TZNAME:CET
DTSTART:20251026T010000
END:STANDARD
BEGIN:DAYLIGHT
TZOFFSETFROM:+0100
TZOFFSETTO:+0200
TZNAME:CEST
DTSTART:20260329T010000
END:DAYLIGHT
BEGIN:STANDARD
TZOFFSETFROM:+0200
TZOFFSETTO:+0100
TZNAME:CET
DTSTART:20261025T010000
END:STANDARD
END:VTIMEZONE
BEGIN:VEVENT
DTSTART;VALUE=DATE:20251031
DTEND;VALUE=DATE:20251101
DTSTAMP:20260424T173721
CREATED:20250922T081302Z
LAST-MODIFIED:20250922T081302Z
UID:1189-1761868800-1761955199@grainesdestoiles.com
SUMMARY:APRÈS-MIDI HALLOWEEN
DESCRIPTION:Grâce à Gérardmer Animation en partenariat avec la MCL\, participez à un après-midi fantastique chez les commerçants du centre-ville de Gérardmer. \nDe 15h à 18h\nChasse aux mots dans les commerces participants.\nDistribution de bonbons\, photo offerte chez La photo création\, Maquillage enfant gratuit chez Jouéclub.\n(Liste dans le livret jeu du festival et sur grainesdestoiles.com) \nDès 18h\nBoom déguisée à la MCL\nVenez déguster une soupe à la bave de limaces saupoudrée de pattes d’araignées poilues. \nÀ 20h\nFilm « petit vampire » (dès 6 ans)
URL:https://grainesdestoiles.com/evenenement/apres-midi-halloween/
LOCATION:MCL de Gérardmer\, 1 Boulevard de Saint Dié\, Gérardmer\, 88400\, France
CATEGORIES:Animations
END:VEVENT
END:VCALENDAR