BEGIN:VCALENDAR
VERSION:2.0
PRODID:-//GRAINES DES TOILES - ECPv6.15.18//NONSGML v1.0//EN
CALSCALE:GREGORIAN
METHOD:PUBLISH
X-WR-CALNAME:GRAINES DES TOILES
X-ORIGINAL-URL:https://grainesdestoiles.com
X-WR-CALDESC:Évènements pour GRAINES DES TOILES
REFRESH-INTERVAL;VALUE=DURATION:PT1H
X-Robots-Tag:noindex
X-PUBLISHED-TTL:PT1H
BEGIN:VTIMEZONE
TZID:Europe/Paris
BEGIN:DAYLIGHT
TZOFFSETFROM:+0100
TZOFFSETTO:+0200
TZNAME:CEST
DTSTART:20240331T010000
END:DAYLIGHT
BEGIN:STANDARD
TZOFFSETFROM:+0200
TZOFFSETTO:+0100
TZNAME:CET
DTSTART:20241027T010000
END:STANDARD
BEGIN:DAYLIGHT
TZOFFSETFROM:+0100
TZOFFSETTO:+0200
TZNAME:CEST
DTSTART:20250330T010000
END:DAYLIGHT
BEGIN:STANDARD
TZOFFSETFROM:+0200
TZOFFSETTO:+0100
TZNAME:CET
DTSTART:20251026T010000
END:STANDARD
BEGIN:DAYLIGHT
TZOFFSETFROM:+0100
TZOFFSETTO:+0200
TZNAME:CEST
DTSTART:20260329T010000
END:DAYLIGHT
BEGIN:STANDARD
TZOFFSETFROM:+0200
TZOFFSETTO:+0100
TZNAME:CET
DTSTART:20261025T010000
END:STANDARD
END:VTIMEZONE
BEGIN:VEVENT
DTSTART;TZID=Europe/Paris:20251028T100000
DTEND;TZID=Europe/Paris:20251028T110000
DTSTAMP:20260424T190821
CREATED:20250922T080539Z
LAST-MODIFIED:20250922T100904Z
UID:1180-1761645600-1761649200@grainesdestoiles.com
SUMMARY:CINÉ CONCERT La princesse et le Rossignol
DESCRIPTION:La princesse et le Rossignol \nCyrille Aufaure vous propose une séance exceptionnelle durant laquelle les p’tits spectateurs découvriront le programme La Princesse et le Rossignol en version ciné-concert !\nAvec son piano\, le musicien vous offre une projection magique où la découverte\, les rires et l’émerveillement s’entremêlent afin d’offrir de beaux moments de cinéma ! Le film est accompagné par une musique originale composée et jouée par le pianiste. \nÀ partir de 3 ans – Durée 45 min – Tarifs du Festival
URL:https://grainesdestoiles.com/evenenement/cine-concert/
LOCATION:MCL de Gérardmer\, 1 Boulevard de Saint Dié\, Gérardmer\, 88400\, France
CATEGORIES:Spectacle/concert
ATTACH;FMTTYPE=image/jpeg:https://grainesdestoiles.com/wp-content/uploads/2025/09/Cineconcert-1.jpg
END:VEVENT
END:VCALENDAR