BEGIN:VCALENDAR
VERSION:2.0
PRODID:-//GRAINES DES TOILES - ECPv6.15.18//NONSGML v1.0//EN
CALSCALE:GREGORIAN
METHOD:PUBLISH
X-WR-CALNAME:GRAINES DES TOILES
X-ORIGINAL-URL:https://grainesdestoiles.com
X-WR-CALDESC:Évènements pour GRAINES DES TOILES
REFRESH-INTERVAL;VALUE=DURATION:PT1H
X-Robots-Tag:noindex
X-PUBLISHED-TTL:PT1H
BEGIN:VTIMEZONE
TZID:Europe/Paris
BEGIN:DAYLIGHT
TZOFFSETFROM:+0100
TZOFFSETTO:+0200
TZNAME:CEST
DTSTART:20240331T010000
END:DAYLIGHT
BEGIN:STANDARD
TZOFFSETFROM:+0200
TZOFFSETTO:+0100
TZNAME:CET
DTSTART:20241027T010000
END:STANDARD
BEGIN:DAYLIGHT
TZOFFSETFROM:+0100
TZOFFSETTO:+0200
TZNAME:CEST
DTSTART:20250330T010000
END:DAYLIGHT
BEGIN:STANDARD
TZOFFSETFROM:+0200
TZOFFSETTO:+0100
TZNAME:CET
DTSTART:20251026T010000
END:STANDARD
BEGIN:DAYLIGHT
TZOFFSETFROM:+0100
TZOFFSETTO:+0200
TZNAME:CEST
DTSTART:20260329T010000
END:DAYLIGHT
BEGIN:STANDARD
TZOFFSETFROM:+0200
TZOFFSETTO:+0100
TZNAME:CET
DTSTART:20261025T010000
END:STANDARD
END:VTIMEZONE
BEGIN:VEVENT
DTSTART;TZID=Europe/Paris:20251023T093000
DTEND;TZID=Europe/Paris:20251023T110000
DTSTAMP:20260424T185113
CREATED:20250922T075936Z
LAST-MODIFIED:20250922T100426Z
UID:1173-1761211800-1761217200@grainesdestoiles.com
SUMMARY:MATIN RÉCRÉATIF "La Princesse et le Rossignol"
DESCRIPTION:Avec le film « La Princesse et le Rossignol » \nUne animation encadrée par des animateurs avec la participation des parents. Jeux\, lecture avec l’association Lire et Faire Lire et l’équipe de la Médialudothèque ou création d’un petit souvenir en rapport avec le film diffusé avec les bénévoles du festival\, deux ateliers de 20 minutes à l’issue de la projection. \nPour les enfants de 3 à 5 ans
URL:https://grainesdestoiles.com/evenenement/matin-recreatif/
LOCATION:MCL de Gérardmer\, 1 Boulevard de Saint Dié\, Gérardmer\, 88400\, France
CATEGORIES:Animations
ATTACH;FMTTYPE=image/jpeg:https://grainesdestoiles.com/wp-content/uploads/2025/09/IMG_20241025_112517-scaled.jpg
END:VEVENT
END:VCALENDAR