BEGIN:VCALENDAR
VERSION:2.0
PRODID:-//GRAINES DES TOILES - ECPv6.15.18//NONSGML v1.0//EN
CALSCALE:GREGORIAN
METHOD:PUBLISH
X-WR-CALNAME:GRAINES DES TOILES
X-ORIGINAL-URL:https://grainesdestoiles.com
X-WR-CALDESC:Évènements pour GRAINES DES TOILES
REFRESH-INTERVAL;VALUE=DURATION:PT1H
X-Robots-Tag:noindex
X-PUBLISHED-TTL:PT1H
BEGIN:VTIMEZONE
TZID:Europe/Paris
BEGIN:DAYLIGHT
TZOFFSETFROM:+0100
TZOFFSETTO:+0200
TZNAME:CEST
DTSTART:20240331T010000
END:DAYLIGHT
BEGIN:STANDARD
TZOFFSETFROM:+0200
TZOFFSETTO:+0100
TZNAME:CET
DTSTART:20241027T010000
END:STANDARD
BEGIN:DAYLIGHT
TZOFFSETFROM:+0100
TZOFFSETTO:+0200
TZNAME:CEST
DTSTART:20250330T010000
END:DAYLIGHT
BEGIN:STANDARD
TZOFFSETFROM:+0200
TZOFFSETTO:+0100
TZNAME:CET
DTSTART:20251026T010000
END:STANDARD
BEGIN:DAYLIGHT
TZOFFSETFROM:+0100
TZOFFSETTO:+0200
TZNAME:CEST
DTSTART:20260329T010000
END:DAYLIGHT
BEGIN:STANDARD
TZOFFSETFROM:+0200
TZOFFSETTO:+0100
TZNAME:CET
DTSTART:20261025T010000
END:STANDARD
END:VTIMEZONE
BEGIN:VEVENT
DTSTART;TZID=Europe/Paris:20251029T090000
DTEND;TZID=Europe/Paris:20251029T110000
DTSTAMP:20260424T172325
CREATED:20250922T080815Z
LAST-MODIFIED:20251026T135312Z
UID:1183-1761728400-1761735600@grainesdestoiles.com
SUMMARY:COMPLET - SORTIE DÉCOUVERTE DE LA FABRICATION DU PAPIER
DESCRIPTION:Avec le CFA Papetier de Gérardmer \nPartez à la découverte du CFA Papetier de Gérardmer\, et découvrez le fonctionnement d’une machine à papier et la fabrication de papier à la main\, construisez des boîtes en carton et observer le fonctionnement des équipements de transformation. Une immersion unique au cœur d’un savoir-faire technique. \n10 personnes/groupe – Départ devant la MCL 15min avant l’horaire indiqué\nCOMPLET
URL:https://grainesdestoiles.com/evenenement/sortie-decouverte-de-la-fabrication-du-papier/
LOCATION:MCL de Gérardmer\, 1 Boulevard de Saint Dié\, Gérardmer\, 88400\, France
CATEGORIES:Sortie
ATTACH;FMTTYPE=image/png:https://grainesdestoiles.com/wp-content/uploads/2025/09/CFA_papier.png
END:VEVENT
END:VCALENDAR