BEGIN:VCALENDAR
VERSION:2.0
PRODID:-//GRAINES DES TOILES - ECPv6.15.18//NONSGML v1.0//EN
CALSCALE:GREGORIAN
METHOD:PUBLISH
X-WR-CALNAME:GRAINES DES TOILES
X-ORIGINAL-URL:https://grainesdestoiles.com
X-WR-CALDESC:Évènements pour GRAINES DES TOILES
REFRESH-INTERVAL;VALUE=DURATION:PT1H
X-Robots-Tag:noindex
X-PUBLISHED-TTL:PT1H
BEGIN:VTIMEZONE
TZID:Europe/Paris
BEGIN:DAYLIGHT
TZOFFSETFROM:+0100
TZOFFSETTO:+0200
TZNAME:CEST
DTSTART:20240331T010000
END:DAYLIGHT
BEGIN:STANDARD
TZOFFSETFROM:+0200
TZOFFSETTO:+0100
TZNAME:CET
DTSTART:20241027T010000
END:STANDARD
BEGIN:DAYLIGHT
TZOFFSETFROM:+0100
TZOFFSETTO:+0200
TZNAME:CEST
DTSTART:20250330T010000
END:DAYLIGHT
BEGIN:STANDARD
TZOFFSETFROM:+0200
TZOFFSETTO:+0100
TZNAME:CET
DTSTART:20251026T010000
END:STANDARD
BEGIN:DAYLIGHT
TZOFFSETFROM:+0100
TZOFFSETTO:+0200
TZNAME:CEST
DTSTART:20260329T010000
END:DAYLIGHT
BEGIN:STANDARD
TZOFFSETFROM:+0200
TZOFFSETTO:+0100
TZNAME:CET
DTSTART:20261025T010000
END:STANDARD
END:VTIMEZONE
BEGIN:VEVENT
DTSTART;VALUE=DATE:20251021
DTEND;VALUE=DATE:20251022
DTSTAMP:20260424T190815
CREATED:20250922T075037Z
LAST-MODIFIED:20251018T130010Z
UID:1169-1761004800-1761091199@grainesdestoiles.com
SUMMARY:COMPLET - SORTIE FAMILLE "Le Vaisseau" à Strasbourg
DESCRIPTION:Nous vous proposons une sortie spéciale au Vaisseau de Strasbourg dans le cadre du festival « Graines des Toiles » !\nCette année\, le festival explore le thème fascinant de la science. C’est l’occasion parfaite pour petits et grands de découvrir des expériences ludiques et de s’émerveiller devant les mystères de notre\nmonde. Venez passer un moment inoubliable en famille\, où l’amusement se mêle à l’apprentissage.\nC’est une belle opportunité de créer des souvenirs tout en éveillant la curiosité de vos enfants. \nCETTE SORTIE EST COMPLETE 
URL:https://grainesdestoiles.com/evenenement/sortie-famille/
LOCATION:MCL de Gérardmer\, 1 Boulevard de Saint Dié\, Gérardmer\, 88400\, France
CATEGORIES:Sortie
ATTACH;FMTTYPE=image/jpeg:https://grainesdestoiles.com/wp-content/uploads/2025/09/vaisseau.jpg
END:VEVENT
END:VCALENDAR